{ "currentVersion": 11.5, "cimVersion": "3.5.0", "serviceDescription": "Webová služba poskytující Základní topografické mapy České republiky. Data jsou poskytována formou dlaždic v souřadnicovém systému S-JTSK v Křovákově zobrazení.", "mapName": "ZTM", "description": "
Webová služba poskytující Základní topografické mapy České republiky. Data jsou poskytována formou dlaždic v souřadnicovém systému S-JTSK v Křovákově zobrazení.<\/SPAN><\/P><\/DIV>",
"copyrightText": "© ČÚZK",
"supportsDynamicLayers": false,
"layers": [
{
"id": 0,
"name": "ZTM",
"parentLayerId": -1,
"defaultVisibility": true,
"subLayerIds": null,
"minScale": 0,
"maxScale": 0,
"type": "Feature Layer",
"geometryType": "esriGeometryPolygon",
"supportsDynamicLegends": true
}
],
"tables": [],
"spatialReference": {
"wkid": 102067,
"latestWkid": 5514,
"xyTolerance": 0.001,
"zTolerance": 0.001,
"mTolerance": 0.001,
"falseX": -33699800,
"falseY": -33699800,
"xyUnits": 10000,
"falseZ": -100000,
"zUnits": 10000,
"falseM": -100000,
"mUnits": 10000
},
"singleFusedMapCache": true,
"tileInfo": {
"rows": 256,
"cols": 256,
"dpi": 96,
"format": "MIXED",
"compressionQuality": 90,
"origin": {
"x": -925000,
"y": -920000
},
"spatialReference": {
"wkid": 102067,
"latestWkid": 5514,
"xyTolerance": 0.001,
"zTolerance": 0.001,
"mTolerance": 0.001,
"falseX": -33699800,
"falseY": -33699800,
"xyUnits": 10000,
"falseZ": -100000,
"zUnits": 10000,
"falseM": -100000,
"mUnits": 10000
},
"lods": [
{
"level": 0,
"resolution": 2048.260096520193,
"scale": 7741440
},
{
"level": 1,
"resolution": 1024.1300482600966,
"scale": 3870720
},
{
"level": 2,
"resolution": 512.0650241300483,
"scale": 1935360
},
{
"level": 3,
"resolution": 256.03251206502415,
"scale": 967680
},
{
"level": 4,
"resolution": 128.01625603251208,
"scale": 483840
},
{
"level": 5,
"resolution": 64.00812801625604,
"scale": 241920
},
{
"level": 6,
"resolution": 32.00406400812802,
"scale": 120960
},
{
"level": 7,
"resolution": 16.00203200406401,
"scale": 60480
},
{
"level": 8,
"resolution": 8.001016002032005,
"scale": 30240
},
{
"level": 9,
"resolution": 4.000508001016002,
"scale": 15120
},
{
"level": 10,
"resolution": 2.000254000508001,
"scale": 7560
},
{
"level": 11,
"resolution": 1.0001270002540006,
"scale": 3780
},
{
"level": 12,
"resolution": 0.5000635001270003,
"scale": 1890
},
{
"level": 13,
"resolution": 0.25003175006350015,
"scale": 945
}
]
},
"storageInfo": {
"storageFormat": "esriMapCacheStorageModeCompactV2",
"packetSize": 128
},
"initialExtent": {
"xmin": -930992.7133899983,
"ymin": -1265474.5485857443,
"xmax": -403858.39160999836,
"ymax": -896771.2224142554,
"spatialReference": {
"wkid": 102067,
"latestWkid": 5514,
"xyTolerance": 0.001,
"zTolerance": 0.001,
"mTolerance": 0.001,
"falseX": -33699800,
"falseY": -33699800,
"xyUnits": 10000,
"falseZ": -100000,
"zUnits": 10000,
"falseM": -100000,
"mUnits": 10000
}
},
"fullExtent": {
"xmin": -907032.0623999983,
"ymin": -1229928.9814999998,
"xmax": -427819.0425999983,
"ymax": -932316.7894999997,
"spatialReference": {
"wkid": 102067,
"latestWkid": 5514,
"xyTolerance": 0.001,
"zTolerance": 0.001,
"mTolerance": 0.001,
"falseX": -33699800,
"falseY": -33699800,
"xyUnits": 10000,
"falseZ": -100000,
"zUnits": 10000,
"falseM": -100000,
"mUnits": 10000
}
},
"datesInUnknownTimezone": false,
"minScale": 7741440,
"maxScale": 945,
"units": "esriMeters",
"supportedImageFormatTypes": "PNG32,PNG24,PNG,JPG,DIB,TIFF,EMF,PS,PDF,GIF,SVG,SVGZ,BMP",
"documentInfo": {
"Title": "ZTM",
"Author": "",
"Comments": " Webová služba poskytující Základní topografické mapy České republiky. Data jsou poskytována formou dlaždic v souřadnicovém systému S-JTSK v Křovákově zobrazení.<\/SPAN><\/P><\/DIV>",
"Subject": "Základní topografické mapy České republiky",
"Category": "",
"Version": "3.1.0",
"AntialiasingMode": "Fast",
"TextAntialiasingMode": "Force",
"Keywords": "ztm,Základní topografické mapy,ČR,CR"
},
"supportsQueryDomains": true,
"capabilities": "Map,Query,Data",
"supportedQueryFormats": "JSON, geoJSON, PBF",
"exportTilesAllowed": true,
"maxExportTilesCount": 100000,
"referenceScale": 0.0,
"datumTransformations": [
{
"geoTransforms": [
{
"wkid": 1623,
"latestWkid": 1623,
"transformForward": true,
"name": "S_JTSK_To_WGS_1984_1"
}
]
},
{
"geoTransforms": [
{
"wkid": 1623,
"latestWkid": 1623,
"transformForward": false,
"name": "S_JTSK_To_WGS_1984_1"
}
]
},
{
"geoTransforms": [
{
"wkid": 1622,
"latestWkid": 1622,
"transformForward": true,
"name": "S_JTSK_To_ETRS_1989_1"
}
]
},
{
"geoTransforms": [
{
"wkid": 1622,
"latestWkid": 1622,
"transformForward": false,
"name": "S_JTSK_To_ETRS_1989_1"
}
]
},
{
"geoTransforms": [
{
"wkid": 1623,
"latestWkid": 1623,
"transformForward": true,
"name": "S_JTSK_To_WGS_1984_1"
},
{
"wkid": 1675,
"latestWkid": 1675,
"transformForward": false,
"name": "Pulkovo_1942_Adj_1983_To_WGS_1984_1"
}
]
},
{
"geoTransforms": [
{
"wkid": 1675,
"latestWkid": 1675,
"transformForward": true,
"name": "Pulkovo_1942_Adj_1983_To_WGS_1984_1"
},
{
"wkid": 1623,
"latestWkid": 1623,
"transformForward": false,
"name": "S_JTSK_To_WGS_1984_1"
}
]
}
],
"supportsDatumTransformation": true,
"archivingInfo": {"supportsHistoricMoment": false},
"supportsClipping": true,
"supportsSpatialFilter": true,
"supportsTimeRelation": true,
"supportsQueryDataElements": true,
"mapUnits": {"uwkid": 9001},
"maxSelectionCount": 2000,
"maxRecordCount": 2000,
"maxImageHeight": 4096,
"maxImageWidth": 4096,
"supportedExtensions": "",
"resampling": true
}