{
 "documentInfo": {
  "Category": "",
  "Keywords": "ortofoto,ČR,CR,ortofotomapa",
  "Version": "3.3.0",
  "Comments": "Prohlížecí služba Esri ArcGIS Server - Ortofoto ČR je poskytována jako veřejná prohlížecí služba nad daty ortofota České republiky. Jedná se o prohlížecí službu poskytovanou technologií Esri ArcGIS Server. Službu lze využít prostřednictvím přístupových rozhraní REST, SOAP a WMTS formou optimalizovaných mapových dlaždic v souřadnicovém systému S-JTSK/Krovak East North (EPSG 5514). Dále lze službu využít v různých souřadnicových systémech (definovaných v capabilities) prostřednictvím standardu WMS.\nEsri ArcGIS Server View Service - Orthophoto CR is provided as a public view service for the Orthophoto of the Czech Republic data. The view service is provided using the Esri ArcGIS Server technology. To optimize the speed, the data are provided in form of pre-prepared map tiles. The Service is accessible by one of access interfaces \u2013 REST, SOAP, WMTS and WMS.",
  "AntialiasingMode": "Fast",
  "Title": "ORTOFOTO",
  "Author": "",
  "TextAntialiasingMode": "Force",
  "Subject": "Ortofotomapa České republiky"
 },
 "maxImageWidth": 4096,
 "maxRecordCount": 2000,
 "tileInfo": {
  "lods": [
   {
    "level": 0,
    "scale": 7741440,
    "resolution": 2048.2600965201932
   },
   {
    "level": 1,
    "scale": 3870720,
    "resolution": 1024.1300482600966
   },
   {
    "level": 2,
    "scale": 1935360,
    "resolution": 512.0650241300483
   },
   {
    "level": 3,
    "scale": 967680,
    "resolution": 256.03251206502415
   },
   {
    "level": 4,
    "scale": 483840,
    "resolution": 128.01625603251208
   },
   {
    "level": 5,
    "scale": 241920,
    "resolution": 64.008128016256038
   },
   {
    "level": 6,
    "scale": 120960,
    "resolution": 32.004064008128019
   },
   {
    "level": 7,
    "scale": 60480,
    "resolution": 16.002032004064009
   },
   {
    "level": 8,
    "scale": 30240,
    "resolution": 8.0010160020320047
   },
   {
    "level": 9,
    "scale": 15120,
    "resolution": 4.0005080010160023
   },
   {
    "level": 10,
    "scale": 7560,
    "resolution": 2.0002540005080012
   },
   {
    "level": 11,
    "scale": 3780,
    "resolution": 1.0001270002540006
   },
   {
    "level": 12,
    "scale": 1890,
    "resolution": 0.50006350012700029
   },
   {
    "level": 13,
    "scale": 945,
    "resolution": 0.25003175006350015
   },
   {
    "level": 14,
    "scale": 472.5,
    "resolution": 0.12501587503175007
   }
  ],
  "origin": {
   "x": -925000,
   "y": -920000
  },
  "format": "MIXED",
  "compressionQuality": 90,
  "rows": 256,
  "dpi": 96,
  "spatialReference": {
   "falseM": -100000,
   "xyTolerance": 0.001,
   "mUnits": 10000,
   "zUnits": 10000,
   "latestWkid": 5514,
   "zTolerance": 0.001,
   "wkid": 102067,
   "xyUnits": 133638764.246983513,
   "mTolerance": 0.001,
   "falseX": -33699800,
   "falseY": -33699800,
   "falseZ": -100000
  },
  "cols": 256
 },
 "description": "Prohlížecí služba Esri ArcGIS Server - Ortofoto ČR je poskytována jako veřejná prohlížecí služba nad daty ortofota České republiky. Jedná se o prohlížecí službu poskytovanou technologií Esri ArcGIS Server. Službu lze využít prostřednictvím přístupových rozhraní REST, SOAP a WMTS formou optimalizovaných mapových dlaždic v souřadnicovém systému S-JTSK/Krovak East North (EPSG 5514). Dále lze službu využít v různých souřadnicových systémech (definovaných v capabilities) prostřednictvím standardu WMS.\nEsri ArcGIS Server View Service - Orthophoto CR is provided as a public view service for the Orthophoto of the Czech Republic data. The view service is provided using the Esri ArcGIS Server technology. To optimize the speed, the data are provided in form of pre-prepared map tiles. The Service is accessible by one of access interfaces \u2013 REST, SOAP, WMTS and WMS.",
 "datesInUnknownTimezone": false,
 "supportsQueryDomains": true,
 "units": "esriMeters",
 "maxSelectionCount": 2000,
 "supportedImageFormatTypes": "PNG32,PNG24,PNG,JPG,DIB,TIFF,EMF,PS,PDF,GIF,SVG,SVGZ,BMP",
 "supportsClipping": true,
 "exportTilesAllowed": true,
 "maxImageHeight": 4096,
 "tables": [],
 "supportsDatumTransformation": true,
 "cimVersion": "3.6.0",
 "supportsQueryDataElements": true,
 "layers": [
  {
   "subLayerIds": null,
   "maxScale": 0,
   "name": "ORTOFOTO",
   "defaultVisibility": true,
   "id": 0,
   "minScale": 0,
   "supportsDynamicLegends": true,
   "type": "Feature Layer",
   "parentLayerId": -1,
   "geometryType": "esriGeometryPolygon"
  }
 ],
 "mapName": "Layers",
 "minScale": 7741440,
 "archivingInfo": {
  "supportsHistoricMoment": false
 },
 "spatialReference": {
  "falseM": -100000,
  "xyTolerance": 0.001,
  "mUnits": 10000,
  "zUnits": 10000,
  "latestWkid": 5514,
  "zTolerance": 0.001,
  "wkid": 102067,
  "xyUnits": 133638764.246983513,
  "mTolerance": 0.001,
  "falseX": -33699800,
  "falseY": -33699800,
  "falseZ": -100000
 },
 "fullExtent": {
  "ymin": -1230916.868999999,
  "xmin": -907841.05602147058,
  "ymax": -932111.72969999723,
  "xmax": -416691.67027852702,
  "spatialReference": {
   "falseM": -100000,
   "xyTolerance": 0.001,
   "mUnits": 10000,
   "zUnits": 10000,
   "latestWkid": 5514,
   "zTolerance": 0.001,
   "wkid": 102067,
   "xyUnits": 133638764.246983513,
   "mTolerance": 0.001,
   "falseX": -33699800,
   "falseY": -33699800,
   "falseZ": -100000
  }
 },
 "supportedExtensions": "WMSServer",
 "capabilities": "Map",
 "supportsDynamicLayers": false,
 "maxScale": 472.5,
 "singleFusedMapCache": true,
 "currentVersion": 12,
 "storageInfo": {
  "storageFormat": "esriMapCacheStorageModeCompactV2",
  "packetSize": 128
 },
 "resampling": true,
 "mapUnits": {
  "uwkid": 9001
 },
 "maxExportTilesCount": 100000,
 "referenceScale": 0,
 "supportsSpatialFilter": true,
 "maxLOD": 14,
 "supportedQueryFormats": "JSON, geoJSON, PBF",
 "datumTransformations": [
  {
   "geoTransforms": [
    {
     "latestWkid": 1623,
     "transformForward": true,
     "wkid": 1623,
     "name": "S_JTSK_To_WGS_1984_1"
    }
   ]
  },
  {
   "geoTransforms": [
    {
     "latestWkid": 1623,
     "transformForward": false,
     "wkid": 1623,
     "name": "S_JTSK_To_WGS_1984_1"
    }
   ]
  },
  {
   "geoTransforms": [
    {
     "latestWkid": 1622,
     "transformForward": true,
     "wkid": 1622,
     "name": "S_JTSK_To_ETRS_1989_1"
    }
   ]
  },
  {
   "geoTransforms": [
    {
     "latestWkid": 1622,
     "transformForward": false,
     "wkid": 1622,
     "name": "S_JTSK_To_ETRS_1989_1"
    }
   ]
  },
  {
   "geoTransforms": [
    {
     "latestWkid": 1675,
     "transformForward": false,
     "wkid": 1675,
     "name": "Pulkovo_1942_Adj_1983_To_WGS_1984_1"
    }
   ]
  },
  {
   "geoTransforms": [
    {
     "latestWkid": 1675,
     "transformForward": true,
     "wkid": 1675,
     "name": "Pulkovo_1942_Adj_1983_To_WGS_1984_1"
    }
   ]
  },
  {
   "geoTransforms": [
    {
     "latestWkid": 1675,
     "transformForward": true,
     "wkid": 1675,
     "name": "Pulkovo_1942_Adj_1983_To_WGS_1984_1"
    },
    {
     "latestWkid": 1623,
     "transformForward": false,
     "wkid": 1623,
     "name": "S_JTSK_To_WGS_1984_1"
    }
   ]
  },
  {
   "geoTransforms": [
    {
     "latestWkid": 1623,
     "transformForward": true,
     "wkid": 1623,
     "name": "S_JTSK_To_WGS_1984_1"
    },
    {
     "latestWkid": 1675,
     "transformForward": false,
     "wkid": 1675,
     "name": "Pulkovo_1942_Adj_1983_To_WGS_1984_1"
    }
   ]
  }
 ],
 "initialExtent": {
  "ymin": -1253281.1571396948,
  "xmin": -907841.05602147058,
  "ymax": -909747.44156030146,
  "xmax": -416691.67027852708,
  "spatialReference": {
   "falseM": -100000,
   "xyTolerance": 0.001,
   "mUnits": 10000,
   "zUnits": 10000,
   "latestWkid": 5514,
   "zTolerance": 0.001,
   "wkid": 102067,
   "xyUnits": 133638764.246983513,
   "mTolerance": 0.001,
   "falseX": -33699800,
   "falseY": -33699800,
   "falseZ": -100000
  }
 },
 "serviceDescription": "Prohlížecí služba Esri ArcGIS Server - Ortofoto ČR je poskytována jako veřejná prohlížecí služba nad daty ortofota České republiky. Jedná se o prohlížecí službu poskytovanou technologií Esri ArcGIS Server. Službu lze využít prostřednictvím přístupových rozhraní REST, SOAP a WMTS formou optimalizovaných mapových dlaždic v souřadnicovém systému S-JTSK/Krovak East North (EPSG 5514). Dále lze službu využít v různých souřadnicových systémech (definovaných v capabilities) prostřednictvím standardu WMS.\nEsri ArcGIS Server View Service - Orthophoto CR is provided as a public view service for the Orthophoto of the Czech Republic data. The view service is provided using the Esri ArcGIS Server technology. To optimize the speed, the data are provided in form of pre-prepared map tiles. The Service is accessible by one of access interfaces \u2013 REST, SOAP, WMTS and WMS.",
 "copyrightText": "© ČÚZK",
 "supportsTimeRelation": true
}
