{
 "extent": {
  "ymin": -1228000.1189173013,
  "xmin": -720000.14526356757,
  "ymax": -976000.1189173013,
  "xmax": -430000.14526356757,
  "spatialReference": {
   "latestVcsWkid": 8357,
   "latestWkid": 5514,
   "wkid": 102067,
   "vcsWkid": 8357
  }
 },
 "blockWidth": 2048,
 "mosaicOperator": "First",
 "serviceSourceType": "esriImageServiceSourceTypeMosaicDataset",
 "hasMultidimensions": false,
 "maxImageWidth": 15000,
 "maxRecordCount": 1000,
 "meanValues": [
  430.22971382859777
 ],
 "hasColormap": false,
 "compressionType": "None",
 "defaultCompressionQuality": 75,
 "maxValues": [
  1646.8199462890625
 ],
 "hasHistograms": true,
 "datasetFormat": "AMD",
 "maxImageHeight": 4100,
 "sortField": "",
 "bandNames": [
  "Band_1"
 ],
 "spatialReference": {
  "latestVcsWkid": 8357,
  "latestWkid": 5514,
  "wkid": 102067,
  "vcsWkid": 8357
 },
 "fullExtent": {
  "ymin": -1228000.1189173013,
  "xmin": -720000.14526356757,
  "ymax": -976000.1189173013,
  "xmax": -430000.14526356757,
  "spatialReference": {
   "latestVcsWkid": 8357,
   "latestWkid": 5514,
   "wkid": 102067,
   "vcsWkid": 8357
  }
 },
 "bandCount": 1,
 "rasterFunctionInfos": [
  {
   "help": "",
   "name": "GrayscaleHillshade",
   "description": "A raster function template."
  },
  {
   "help": "",
   "name": "SlopeRGBMap",
   "description": "A raster function template."
  },
  {
   "help": "",
   "name": "AspectRGBMap",
   "description": "A raster function template."
  },
  {
   "help": "",
   "name": "GrayscaleHillshadeZ10",
   "description": "A raster function template."
  },
  {
   "help": "",
   "name": "GrayscaleHillshadeZ20",
   "description": "A raster function template."
  },
  {
   "help": "",
   "name": "SlopeRGBMap2",
   "description": "A raster function template."
  },
  {
   "help": "",
   "name": "TintedHillshadeContinuous",
   "description": "A raster function template."
  },
  {
   "help": "",
   "name": "None",
   "description": ""
  }
 ],
 "supportsStatistics": true,
 "sortableFields": "MinPS,MaxPS,LowPS,HighPS,CenterX,CenterY,ZOrder,Shape_Length,Shape_Area",
 "minValues": [
  -679.1300048828125
 ],
 "allowRasterFunction": true,
 "allowComputeTiePoints": false,
 "serviceDataType": "esriImageServiceDataTypeGeneric",
 "supportsAdvancedQueries": true,
 "maxDownloadSizeLimit": 2048,
 "currentVersion": 12,
 "heightModelInfo": {
  "vertCRS": "Baltic_1957_height",
  "heightModel": "gravity_related_height",
  "heightUnit": "meter"
 },
 "sortValue": null,
 "objectIdField": "OBJECTID",
 "blockHeight": 256,
 "initialExtent": {
  "ymin": -1228000.1189173013,
  "xmin": -720000.14526356757,
  "ymax": -976000.1189173013,
  "xmax": -430000.14526356757,
  "spatialReference": {
   "latestVcsWkid": 8357,
   "latestWkid": 5514,
   "wkid": 102067,
   "vcsWkid": 8357
  }
 },
 "pixelSizeX": 0.5,
 "pixelSizeY": 0.5,
 "defaultMosaicMethod": "Northwest",
 "name": "dmp_obrazova_korelace",
 "allowedMosaicMethods": "NorthWest,Center,LockRaster,ByAttribute,Nadir,Viewpoint,Seamline,None",
 "maxDownloadImageCount": 20,
 "fields": [
  {
   "domain": null,
   "name": "OBJECTID",
   "alias": "OBJECTID",
   "type": "esriFieldTypeOID"
  },
  {
   "domain": null,
   "name": "Shape",
   "alias": "Shape",
   "type": "esriFieldTypeGeometry"
  },
  {
   "domain": null,
   "name": "Name",
   "length": 200,
   "alias": "Name",
   "type": "esriFieldTypeString"
  },
  {
   "domain": null,
   "name": "MinPS",
   "alias": "MinPS",
   "type": "esriFieldTypeDouble"
  },
  {
   "domain": null,
   "name": "MaxPS",
   "alias": "MaxPS",
   "type": "esriFieldTypeDouble"
  },
  {
   "domain": null,
   "name": "LowPS",
   "alias": "LowPS",
   "type": "esriFieldTypeDouble"
  },
  {
   "domain": null,
   "name": "HighPS",
   "alias": "HighPS",
   "type": "esriFieldTypeDouble"
  },
  {
   "domain": {
    "splitPolicy": "esriSPTDefaultValue",
    "name": "MosaicCatalogItemCategoryDomain",
    "description": "Catalog item categories.",
    "type": "codedValue",
    "codedValues": [
     {
      "code": 0,
      "name": "Unknown"
     },
     {
      "code": 1,
      "name": "Primary"
     },
     {
      "code": 2,
      "name": "Overview"
     },
     {
      "code": 3,
      "name": "Unprocessed Overview"
     },
     {
      "code": 4,
      "name": "Partial Overview"
     },
     {
      "code": 5,
      "name": "Inactive"
     },
     {
      "code": 253,
      "name": "Uploaded"
     },
     {
      "code": 254,
      "name": "Incomplete"
     },
     {
      "code": 255,
      "name": "Custom"
     }
    ],
    "mergePolicy": "esriMPTDefaultValue"
   },
   "name": "Category",
   "alias": "Category",
   "type": "esriFieldTypeInteger"
  },
  {
   "domain": null,
   "name": "Tag",
   "length": 100,
   "alias": "Tag",
   "type": "esriFieldTypeString"
  },
  {
   "domain": null,
   "name": "GroupName",
   "length": 100,
   "alias": "GroupName",
   "type": "esriFieldTypeString"
  },
  {
   "domain": null,
   "name": "ProductName",
   "length": 100,
   "alias": "ProductName",
   "type": "esriFieldTypeString"
  },
  {
   "domain": null,
   "name": "CenterX",
   "alias": "CenterX",
   "type": "esriFieldTypeDouble"
  },
  {
   "domain": null,
   "name": "CenterY",
   "alias": "CenterY",
   "type": "esriFieldTypeDouble"
  },
  {
   "domain": null,
   "name": "ZOrder",
   "alias": "ZOrder",
   "type": "esriFieldTypeInteger"
  },
  {
   "domain": null,
   "name": "Shape_Length",
   "alias": "Shape_Length",
   "type": "esriFieldTypeDouble"
  },
  {
   "domain": null,
   "name": "Shape_Area",
   "alias": "Shape_Area",
   "type": "esriFieldTypeDouble"
  }
 ],
 "allowAnalysis": true,
 "hasRasterAttributeTable": false,
 "useStandardizedQueries": true,
 "description": "Digitální model povrchu České republiky z obrazové korelace (DMP OK) představuje zobrazení průběhu georeliéfu včetně všech přírodních či lidskou činností vytvořených objektů na něm se nacházejících v České republice. Přírodní objekty zastupuje vegetační pokryv a lidskou činností vytvořené objekty jsou veškeré stavby. DMP OK je určen k analýzám výškových poměrů georeliéfu v souvislosti s objekty na něm se nacházejícími nadregionálního, regionálního i lokálního charakteru, konkrétně například pro analýzy viditelnosti, modelování šíření elektromagnetického záření, modelování šíření nebezpečných škodlivých látek a nečistot v ovzduší či hluku, nebo též pro modelování povodní. DMP OK je vytvářen technologií obrazové korelace leteckých měřických snímků (LMS). ",
 "pixelType": "F32",
 "meanPixelSize": 0.5,
 "exportTilesAllowed": false,
 "editFieldsInfo": null,
 "rasterTypeInfos": [
  {
   "help": "",
   "name": "Raster Dataset",
   "description": "Supports all ArcGIS Raster Datasets"
  }
 ],
 "defaultResamplingMethod": "Bilinear",
 "itemAccess": false,
 "minScale": 0,
 "serviceProperties": "NorthWest<\/MosaicMethod>First<\/MosaicOperator>true<\/SortAscending><\/LockImageID>Name<\/TileOrderField>0<\/TileOrderBase>600,000000<\/AvgImageSpacingX>300,000000<\/AvgImageSpacingY>0.0<\/ViewPointX>0.0<\/ViewPointY>0.0<\/ViewPointDefShiftX>0.0<\/ViewPointDefShiftY>None<\/CompressionMethod>75<\/CompressionQuality>0,010000<\/CompressionTolerance>Bilinear<\/SamplingMethod><\/ImageServiceProperties><\/ImageServer>",
 "advancedQueryCapabilities": {
  "supportsStatistics": true,
  "supportsSqlExpression": true,
  "supportsOrderBy": true,
  "useStandardizedQueries": true,
  "supportsPagination": true,
  "supportsDistinct": true
 },
 "capabilities": "Catalog,Image,Metadata",
 "maxScale": 0,
 "stdvValues": [
  177.6944505657992
 ],
 "allowedFields": "Name,MinPS,MaxPS,LowPS,HighPS,Tag,GroupName,ProductName,CenterX,CenterY,ZOrder,Shape_Length,Shape_Area",
 "minPixelSize": 0,
 "resampling": false,
 "sortAscending": true,
 "maxMosaicImageCount": 20,
 "inspectionCapabilities": "",
 "maxPixelSize": 0,
 "uncompressedSize": 1169280000000,
 "serviceDescription": "Digitální model povrchu České republiky z obrazové korelace (DMP OK) představuje zobrazení průběhu georeliéfu včetně všech přírodních či lidskou činností vytvořených objektů na něm se nacházejících v České republice. Přírodní objekty zastupuje vegetační pokryv a lidskou činností vytvořené objekty jsou veškeré stavby. DMP OK je určen k analýzám výškových poměrů georeliéfu v souvislosti s objekty na něm se nacházejícími nadregionálního, regionálního i lokálního charakteru, konkrétně například pro analýzy viditelnosti, modelování šíření elektromagnetického záření, modelování šíření nebezpečných škodlivých látek a nečistot v ovzduší či hluku, nebo též pro modelování povodní. DMP OK je vytvářen technologií obrazové korelace leteckých měřických snímků (LMS). ",
 "allowCopy": true,
 "copyrightText": "© ČÚZK",
 "mensurationCapabilities": "None",
 "ownershipBasedAccessControlForRasters": null
}
