View In:
ArcGIS JavaScript
ArcGIS Online Map Viewer
ArcGIS Earth
Service Description: Digitální model povrchu České republiky z obrazové korelace (DMP OK) představuje zobrazení průběhu georeliéfu včetně všech přírodních či lidskou činností vytvořených objektů na něm se nacházejících v České republice. Přírodní objekty zastupuje vegetační pokryv a lidskou činností vytvořené objekty jsou veškeré stavby. DMP OK je určen k analýzám výškových poměrů georeliéfu v souvislosti s objekty na něm se nacházejícími nadregionálního, regionálního i lokálního charakteru, konkrétně například pro analýzy viditelnosti, modelování šíření elektromagnetického záření, modelování šíření nebezpečných škodlivých látek a nečistot v ovzduší či hluku, nebo též pro modelování povodní. DMP OK je vytvářen technologií obrazové korelace leteckých měřických snímků (LMS).
Name: dmp
Description: Digitální model povrchu České republiky z obrazové korelace (DMP OK) představuje zobrazení průběhu georeliéfu včetně všech přírodních či lidskou činností vytvořených objektů na něm se nacházejících v České republice. Přírodní objekty zastupuje vegetační pokryv a lidskou činností vytvořené objekty jsou veškeré stavby. DMP OK je určen k analýzám výškových poměrů georeliéfu v souvislosti s objekty na něm se nacházejícími nadregionálního, regionálního i lokálního charakteru, konkrétně například pro analýzy viditelnosti, modelování šíření elektromagnetického záření, modelování šíření nebezpečných škodlivých látek a nečistot v ovzduší či hluku, nebo též pro modelování povodní. DMP OK je vytvářen technologií obrazové korelace leteckých měřických snímků (LMS).
Single Fused Map Cache: false
Extent:
XMin: -905000.1452635676
YMin: -1228000.1189173013
XMax: -430000.14526356757
YMax: -934000.1189173013
Spatial Reference: 102067
(5514)
VCSWkid(8357)
LatestVCSWkid(8357)
Initial Extent:
XMin: -905000.1452635676
YMin: -1228000.1189173013
XMax: -430000.14526356757
YMax: -934000.1189173013
Spatial Reference: 102067
(5514)
VCSWkid(8357)
LatestVCSWkid(8357)
Full Extent:
XMin: -905000.1452635676
YMin: -1228000.1189173013
XMax: -430000.14526356757
YMax: -934000.1189173013
Spatial Reference: 102067
(5514)
VCSWkid(8357)
LatestVCSWkid(8357)
Pixel Size X: 0.5
Pixel Size Y: 0.5
Band Count: 1
Pixel Type: F32
RasterFunction Infos: {"rasterFunctionInfos": [
{
"help": "",
"name": "GrayscaleHillshade",
"description": "A raster function template."
},
{
"help": "",
"name": "SlopeRGBMap",
"description": "A raster function template."
},
{
"help": "",
"name": "AspectRGBMap",
"description": "A raster function template."
},
{
"help": "",
"name": "GrayscaleHillshadeZ10",
"description": "A raster function template."
},
{
"help": "",
"name": "GrayscaleHillshadeZ20",
"description": "A raster function template."
},
{
"help": "",
"name": "SlopeRGBMap2",
"description": "A raster function template."
},
{
"help": "",
"name": "TintedHillshadeContinuous",
"description": "A raster function template."
},
{
"help": "",
"name": "None",
"description": ""
}
]}
Mensuration Capabilities: None
Inspection Capabilities:
Has Histograms: true
Has Colormap: false
Has Multi Dimensions : false
Rendering Rule:
Min Scale: 0
Max Scale: 0
Resampling: false
Copyright Text: © ČÚZK
Service Data Type: esriImageServiceDataTypeGeneric
Min Values: 45.741188049316406
Max Values: 1526.347412109375
Mean Values: 454.50771962660571
Standard Deviation Values: 182.69580808371708
Object ID Field: OBJECTID
Fields:
-
OBJECTID
(
alias: OBJECTID, type: esriFieldTypeOID
)
-
Shape
(
alias: Shape, type: esriFieldTypeGeometry
)
-
Name
(
length: 200, alias: Name, type: esriFieldTypeString
)
-
MinPS
(
alias: MinPS, type: esriFieldTypeDouble
)
-
MaxPS
(
alias: MaxPS, type: esriFieldTypeDouble
)
-
LowPS
(
alias: LowPS, type: esriFieldTypeDouble
)
-
HighPS
(
alias: HighPS, type: esriFieldTypeDouble
)
-
Category
(
alias: Category, type: esriFieldTypeInteger
, Coded Values:
[0: Unknown]
, [1: Primary]
, [2: Overview]
, ...6 more...
)
-
Tag
(
length: 100, alias: Tag, type: esriFieldTypeString
)
-
GroupName
(
length: 100, alias: GroupName, type: esriFieldTypeString
)
-
ProductName
(
length: 100, alias: ProductName, type: esriFieldTypeString
)
-
CenterX
(
alias: CenterX, type: esriFieldTypeDouble
)
-
CenterY
(
alias: CenterY, type: esriFieldTypeDouble
)
-
ZOrder
(
alias: ZOrder, type: esriFieldTypeInteger
)
-
Shape_Length
(
alias: Shape_Length, type: esriFieldTypeDouble
)
-
Shape_Area
(
alias: Shape_Area, type: esriFieldTypeDouble
)
Default Mosaic Method: Northwest
Allowed Mosaic Methods: NorthWest,Center,LockRaster,ByAttribute,Nadir,Viewpoint,Seamline,None
SortField:
SortValue: N/A
Mosaic Operator: First
Default Compression Quality: 75
Default Resampling Method: Bilinear
Max Record Count: 1000
Max Image Height: 4100
Max Image Width: 15000
Max Download Image Count: 20
Max Mosaic Image Count: 20
Allow Raster Function: true
Allow Copy: true
Allow Analysis: true
Allow Compute TiePoints: false
Supports Statistics: true
Supports Advanced Queries: true
Use StandardizedQueries: true
Raster Type Infos:
Name: Raster Dataset
Description: Supports all ArcGIS Raster Datasets
Help:
Has Raster Attribute Table: false
Edit Fields Info: N/A
Ownership Based AccessControl For Rasters: N/A
Child Resources:
Info
Histograms
Statistics
Key Properties
Legend
Raster Function Infos
Supported Operations:
Export Image
Query
Identify
Compute Histograms
Compute Statistics Histograms
Get Samples
Compute Class Statistics
Query GPS Info
Find Images
Image to Map
Map to Image
Measure from Image
Image to Map Multiray
Query Boundary
Compute Pixel Location
Compute Angles
Validate
Project